BEGIN:VCALENDAR
VERSION:2.0
PRODID:-//Ralf Kardes - ECPv6.2.6//NONSGML v1.0//EN
CALSCALE:GREGORIAN
METHOD:PUBLISH
X-WR-CALNAME:Ralf Kardes
X-ORIGINAL-URL:https://rkardes.de
X-WR-CALDESC:Veranstaltungen für Ralf Kardes
REFRESH-INTERVAL;VALUE=DURATION:PT1H
X-Robots-Tag:noindex
X-PUBLISHED-TTL:PT1H
BEGIN:VTIMEZONE
TZID:UTC
BEGIN:STANDARD
TZOFFSETFROM:+0000
TZOFFSETTO:+0000
TZNAME:UTC
DTSTART:20260101T000000
END:STANDARD
END:VTIMEZONE
BEGIN:VEVENT
DTSTART;VALUE=DATE:20260401
DTEND;VALUE=DATE:20260501
DTSTAMP:20260420T010740
CREATED:20260303T144533Z
LAST-MODIFIED:20260303T144533Z
UID:1598-1775001600-1777593599@rkardes.de
SUMMARY:Casa del Arte\, Palma de Mallorca
DESCRIPTION:
URL:https://rkardes.de/?tribe_events=casa-del-arte-palma-de-mallorca
LOCATION:NRW
END:VEVENT
BEGIN:VEVENT
DTSTART;VALUE=DATE:20261009
DTEND;VALUE=DATE:20261012
DTSTAMP:20260420T010740
CREATED:20260414T181543Z
LAST-MODIFIED:20260414T181543Z
UID:1612-1791504000-1791763199@rkardes.de
SUMMARY:Ausstellung mit Helmut Brandt\, Galerie Smend\, Köln
DESCRIPTION:
URL:https://rkardes.de/?tribe_events=ausstellung-mit-helmut-brandt-galerie-smend-koeln
LOCATION:Galerie Smend\, Mainzer Str. 31\, Köln\, NRW\, 50678
END:VEVENT
END:VCALENDAR